0.041070000000
0
0
-0.041070000000
243487.468250000034
6190849.766570000909
