0.032550000000
0
0
-0.032550000000
243695.621220000030
6191427.598200000823
