0.040320000000
0
0
-0.040320000000
749987.151930000051
6159941.113490000367
