0.040290000000
0
0
-0.040290000000
756449.010850000079
6161427.292300000787
